BEGIN:VCALENDAR
VERSION:2.0
PRODID:-//Life with Terry - ECPv6.13.2.1//NONSGML v1.0//EN
CALSCALE:GREGORIAN
METHOD:PUBLISH
X-ORIGINAL-URL:https://lifewithterry.com
X-WR-CALDESC:Events for Life with Terry
REFRESH-INTERVAL;VALUE=DURATION:PT1H
X-Robots-Tag:noindex
X-PUBLISHED-TTL:PT1H
BEGIN:VTIMEZONE
TZID:UTC
BEGIN:STANDARD
TZOFFSETFROM:+0000
TZOFFSETTO:+0000
TZNAME:UTC
DTSTART:20220101T000000
END:STANDARD
END:VTIMEZONE
BEGIN:VEVENT
DTSTART;TZID=UTC:20221005T110000
DTEND;TZID=UTC:20221005T120000
DTSTAMP:20260420T034708
CREATED:20220928T103822Z
LAST-MODIFIED:20221003T045732Z
UID:2008-1664967600-1664971200@lifewithterry.com
SUMMARY:LwTee Live Webinar - Power of Seasons
DESCRIPTION:  \n \nIf you going through a life changing journey of Self-development\, Self-empowerment & Self- healing\, this webinar is for you. You don’t want to miss this life opportunity. If you are interested but will not be able to attend\, send us an email @ lwtee_retreats@lifewithterry.com for a free recording. \nLife will always present us with events that are either positive or negative\, favourable or unfavourable\, desirable or undesirable and so forth. When we are not fully aware that there is a force of seasons behind each event\, we cannot fully utilise these seasons effectively and efficiently in our favour. Unfortunately when we do not know the building blocks of seasons\, we miss golden opportunities presented through seasons. When we know we will manifest things in our favour -personally\, socially\, professionally or spiritually.  \nFortunately\, in this live webinar we will be introducing you to the different kinds of seasons beyond the four seasons that we are all aware of. We will also help you understand the spiritual meaning and impact of each season on your life and ability to create. Join us as we unpack ways of effectively using each season in your life to manifest your desires. \nWe will also have time for Q&A. This is the first of many live webinars that we will be hosting as we build a community of Creators and Co-creators who are being positioned to embark on a journey of Self discovery\, Self development\, Self empowerment & Self healing. Grab you seat by registering for free  @ https://qo.mywebinar.com/jcmb-nlck-zqcn-vneb. We look forward to hosting you. \nHelping our fellow Co-creators to create & live fulfilled lives. \nLife with Terry \nCLICK HERR TO REGISTER \n  \nCLICK HERE TO LEARN MORE ABOUT THE HOST
URL:https://lifewithterry.com/event/lwtee-live-webinar-power-of-seasons/
LOCATION:Online\, South Africa
END:VEVENT
END:VCALENDAR